Package: qsmooth Version: 1.25.0 Command: /home/biocbuild/bbs-3.22-bioc/R/bin/R CMD INSTALL qsmooth StartedAt: 2025-10-27 15:32:03 -0400 (Mon, 27 Oct 2025) EndedAt: 2025-10-27 15:32:36 -0400 (Mon, 27 Oct 2025) EllapsedTime: 33.3 seconds RetCode: 0 Status: OK