Package: qpgraph Version: 2.44.0 Command: /Library/Frameworks/R.framework/Resources/bin/R CMD INSTALL qpgraph StartedAt: 2025-11-03 15:42:03 -0500 (Mon, 03 Nov 2025) EndedAt: 2025-11-03 15:43:21 -0500 (Mon, 03 Nov 2025) EllapsedTime: 77.5 seconds RetCode: 0 Status: OK