Package: qpgraph Version: 2.44.0 Command: /Library/Frameworks/R.framework/Resources/bin/R CMD build --keep-empty-dirs --no-resave-data qpgraph StartedAt: 2025-11-03 18:20:41 -0500 (Mon, 03 Nov 2025) EndedAt: 2025-11-03 18:23:00 -0500 (Mon, 03 Nov 2025) EllapsedTime: 138.3 seconds RetCode: 0 Status: OK PackageFile: qpgraph_2.44.0.tar.gz PackageFileSize: 2.703 MiB