Package: qpgraph Version: 2.44.0 Command: rm -rf qpgraph.buildbin-libdir && mkdir qpgraph.buildbin-libdir && /Users/biocbuild/BBS/utils/build-universal.sh qpgraph_2.44.0.tar.gz /Library/Frameworks/R.framework/Resources/bin/R qpgraph.buildbin-libdir StartedAt: 2025-11-04 01:57:20 -0500 (Tue, 04 Nov 2025) EndedAt: 2025-11-04 01:58:43 -0500 (Tue, 04 Nov 2025) EllapsedTime: 83.2 seconds RetCode: 0 Status: OK PackageFile: qpgraph_2.44.0.tgz PackageFileSize: 4.096 MiB