Package: qpgraph Version: 2.43.1 Command: /Library/Frameworks/R.framework/Resources/bin/R CMD INSTALL qpgraph StartedAt: 2025-10-24 15:25:00 -0400 (Fri, 24 Oct 2025) EndedAt: 2025-10-24 15:25:23 -0400 (Fri, 24 Oct 2025) EllapsedTime: 22.2 seconds RetCode: 0 Status: OK