Package: qpgraph Version: 2.43.1 Command: /Library/Frameworks/R.framework/Resources/bin/R CMD build --keep-empty-dirs --no-resave-data qpgraph StartedAt: 2025-10-24 17:26:02 -0400 (Fri, 24 Oct 2025) EndedAt: 2025-10-24 17:26:55 -0400 (Fri, 24 Oct 2025) EllapsedTime: 53.7 seconds RetCode: 0 Status: OK PackageFile: qpgraph_2.43.1.tar.gz PackageFileSize: 2.704 MiB