Package: qpgraph Version: 2.43.1 Command: rm -rf qpgraph.buildbin-libdir && mkdir qpgraph.buildbin-libdir && /Users/biocbuild/BBS/utils/build-universal.sh qpgraph_2.43.1.tar.gz /Library/Frameworks/R.framework/Resources/bin/R qpgraph.buildbin-libdir StartedAt: 2025-10-24 23:15:07 -0400 (Fri, 24 Oct 2025) EndedAt: 2025-10-24 23:15:32 -0400 (Fri, 24 Oct 2025) EllapsedTime: 24.6 seconds RetCode: 0 Status: OK PackageFile: qpgraph_2.43.1.tgz PackageFileSize: 4.09 MiB