Package: qpcrNorm Version: 1.68.0 Command: /home/biocbuild/bbs-3.22-bioc/R/bin/R CMD INSTALL qpcrNorm StartedAt: 2025-10-29 21:29:39 -0400 (Wed, 29 Oct 2025) EndedAt: 2025-10-29 21:29:46 -0400 (Wed, 29 Oct 2025) EllapsedTime: 6.4 seconds RetCode: 0 Status: OK