Package: qpcrNorm Version: 1.68.0 Command: /home/biocbuild/bbs-3.22-bioc/R/bin/R CMD build --keep-empty-dirs --no-resave-data --md5 qpcrNorm StartedAt: 2025-10-30 01:52:19 -0400 (Thu, 30 Oct 2025) EndedAt: 2025-10-30 01:52:28 -0400 (Thu, 30 Oct 2025) EllapsedTime: 9.0 seconds RetCode: 0 Status: OK PackageFile: qpcrNorm_1.68.0.tar.gz PackageFileSize: 550.2 KiB