Package: qmtools Version: 1.14.0 Command: /Library/Frameworks/R.framework/Resources/bin/R CMD INSTALL qmtools StartedAt: 2025-11-02 15:28:20 -0500 (Sun, 02 Nov 2025) EndedAt: 2025-11-02 15:28:54 -0500 (Sun, 02 Nov 2025) EllapsedTime: 34.1 seconds RetCode: 0 Status: OK