Package: qmtools Version: 1.14.0 Command: /Library/Frameworks/R.framework/Resources/bin/R CMD build --keep-empty-dirs --no-resave-data qmtools StartedAt: 2025-11-02 18:22:49 -0500 (Sun, 02 Nov 2025) EndedAt: 2025-11-02 18:23:44 -0500 (Sun, 02 Nov 2025) EllapsedTime: 54.8 seconds RetCode: 0 Status: OK PackageFile: qmtools_1.14.0.tar.gz PackageFileSize: 1.415 MiB