Package: qmtools Version: 1.13.0 Command: /Library/Frameworks/R.framework/Resources/bin/R CMD INSTALL qmtools StartedAt: 2025-10-24 15:15:13 -0400 (Fri, 24 Oct 2025) EndedAt: 2025-10-24 15:15:24 -0400 (Fri, 24 Oct 2025) EllapsedTime: 10.6 seconds RetCode: 0 Status: OK