Package: qmtools Version: 1.13.0 Command: /Library/Frameworks/R.framework/Resources/bin/R CMD build --keep-empty-dirs --no-resave-data qmtools StartedAt: 2025-10-24 17:26:01 -0400 (Fri, 24 Oct 2025) EndedAt: 2025-10-24 17:26:22 -0400 (Fri, 24 Oct 2025) EllapsedTime: 21.3 seconds RetCode: 0 Status: OK PackageFile: qmtools_1.13.0.tar.gz PackageFileSize: 1.415 MiB