Package: qmtools Version: 1.14.0 Maintainer: Jaehyun Joo MaintainerEmail: jaehyunjoo at outlook.com git_url: https://git.bioconductor.org/packages/qmtools git_branch: RELEASE_3_22 git_last_commit: b38de25 git_last_commit_date: 2025-10-29 11:16:09 -0400 (Wed, 29 Oct 2025)