Package: qcmetrics Version: 1.47.0 Command: /home/biocbuild/bbs-3.22-bioc/R/bin/R CMD build --keep-empty-dirs --no-resave-data --md5 qcmetrics StartedAt: 2025-10-24 19:35:09 -0400 (Fri, 24 Oct 2025) EndedAt: 2025-10-24 19:35:39 -0400 (Fri, 24 Oct 2025) EllapsedTime: 30.0 seconds RetCode: 0 Status: OK PackageFile: qcmetrics_1.47.0.tar.gz PackageFileSize: 4.22 MiB