Package: qcmetrics Version: 1.48.0 Command: /Library/Frameworks/R.framework/Resources/bin/R CMD INSTALL qcmetrics StartedAt: 2025-11-02 15:07:20 -0500 (Sun, 02 Nov 2025) EndedAt: 2025-11-02 15:07:24 -0500 (Sun, 02 Nov 2025) EllapsedTime: 3.7 seconds RetCode: 0 Status: OK