Package: qcmetrics Version: 1.48.0 Command: /Library/Frameworks/R.framework/Resources/bin/R CMD build --keep-empty-dirs --no-resave-data qcmetrics StartedAt: 2025-11-02 17:24:36 -0500 (Sun, 02 Nov 2025) EndedAt: 2025-11-02 17:24:50 -0500 (Sun, 02 Nov 2025) EllapsedTime: 14.2 seconds RetCode: 0 Status: OK PackageFile: qcmetrics_1.48.0.tar.gz PackageFileSize: 4.217 MiB