Package: qcmetrics Version: 1.48.0 Command: rm -rf qcmetrics.buildbin-libdir && mkdir qcmetrics.buildbin-libdir && /Users/biocbuild/BBS/utils/build-universal.sh qcmetrics_1.48.0.tar.gz /Library/Frameworks/R.framework/Resources/bin/R qcmetrics.buildbin-libdir StartedAt: 2025-11-02 23:16:58 -0500 (Sun, 02 Nov 2025) EndedAt: 2025-11-02 23:17:02 -0500 (Sun, 02 Nov 2025) EllapsedTime: 4.1 seconds RetCode: 0 Status: OK PackageFile: qcmetrics_1.48.0.tgz PackageFileSize: 4.074 MiB