Package: qckitfastq Version: 1.25.1 Command: /home/biocbuild/bbs-3.22-bioc/R/bin/R CMD build --keep-empty-dirs --no-resave-data --md5 qckitfastq StartedAt: 2025-10-24 19:35:08 -0400 (Fri, 24 Oct 2025) EndedAt: 2025-10-24 19:35:09 -0400 (Fri, 24 Oct 2025) EllapsedTime: 1.0 seconds RetCode: 1 Status: ERROR PackageFile: None PackageFileSize: NA