Package: qckitfastq Version: 1.26.0 Command: /Library/Frameworks/R.framework/Resources/bin/R CMD INSTALL qckitfastq StartedAt: 2025-11-02 15:35:19 -0500 (Sun, 02 Nov 2025) EndedAt: 2025-11-02 15:35:19 -0500 (Sun, 02 Nov 2025) EllapsedTime: 0.1 seconds RetCode: 1 Status: ERROR