Package: qckitfastq Version: 1.26.0 Command: /Library/Frameworks/R.framework/Resources/bin/R CMD build --keep-empty-dirs --no-resave-data qckitfastq StartedAt: 2025-11-02 17:24:35 -0500 (Sun, 02 Nov 2025) EndedAt: 2025-11-02 17:24:36 -0500 (Sun, 02 Nov 2025) EllapsedTime: 1.0 seconds RetCode: 1 Status: ERROR PackageFile: None PackageFileSize: NA