Package: qPLEXanalyzer Version: 1.27.0 Command: /home/biocbuild/bbs-3.22-bioc/R/bin/R CMD INSTALL qPLEXanalyzer StartedAt: 2025-10-24 15:47:36 -0400 (Fri, 24 Oct 2025) EndedAt: 2025-10-24 15:48:15 -0400 (Fri, 24 Oct 2025) EllapsedTime: 39.2 seconds RetCode: 0 Status: OK