Package: qPLEXanalyzer Version: 1.28.0 Command: /Library/Frameworks/R.framework/Resources/bin/R CMD build --keep-empty-dirs --no-resave-data qPLEXanalyzer StartedAt: 2025-11-03 18:20:46 -0500 (Mon, 03 Nov 2025) EndedAt: 2025-11-03 18:21:58 -0500 (Mon, 03 Nov 2025) EllapsedTime: 71.9 seconds RetCode: 1 Status: ERROR PackageFile: None PackageFileSize: NA