Package: qPLEXanalyzer Version: 1.27.0 Command: rm -rf qPLEXanalyzer.buildbin-libdir && mkdir qPLEXanalyzer.buildbin-libdir && /Users/biocbuild/BBS/utils/build-universal.sh qPLEXanalyzer_1.27.0.tar.gz /Library/Frameworks/R.framework/Resources/bin/R qPLEXanalyzer.buildbin-libdir StartedAt: 2025-10-18 03:15:18 -0400 (Sat, 18 Oct 2025) EndedAt: 2025-10-18 03:16:18 -0400 (Sat, 18 Oct 2025) EllapsedTime: 60.2 seconds RetCode: 0 Status: OK PackageFile: qPLEXanalyzer_1.27.0.tgz PackageFileSize: 3.739 MiB