Package: qPLEXanalyzer Version: 1.27.0 Command: /Library/Frameworks/R.framework/Resources/bin/R CMD INSTALL qPLEXanalyzer StartedAt: 2025-10-26 15:19:55 -0400 (Sun, 26 Oct 2025) EndedAt: 2025-10-26 15:20:11 -0400 (Sun, 26 Oct 2025) EllapsedTime: 16.2 seconds RetCode: 0 Status: OK