Package: qPLEXanalyzer Version: 1.27.0 Command: /Library/Frameworks/R.framework/Resources/bin/R CMD build --keep-empty-dirs --no-resave-data qPLEXanalyzer StartedAt: 2025-10-26 17:36:50 -0400 (Sun, 26 Oct 2025) EndedAt: 2025-10-26 17:37:14 -0400 (Sun, 26 Oct 2025) EllapsedTime: 24.3 seconds RetCode: 1 Status: ERROR PackageFile: None PackageFileSize: NA