Package: pwalign Version: 1.5.0 Command: /home/biocbuild/bbs-3.22-bioc/R/bin/R CMD INSTALL pwalign StartedAt: 2025-10-24 16:01:04 -0400 (Fri, 24 Oct 2025) EndedAt: 2025-10-24 16:01:19 -0400 (Fri, 24 Oct 2025) EllapsedTime: 15.7 seconds RetCode: 0 Status: OK