Package: pwalign Version: 1.5.0 Command: /home/biocbuild/bbs-3.22-bioc/R/bin/R CMD build --keep-empty-dirs --no-resave-data --md5 pwalign StartedAt: 2025-10-24 19:34:53 -0400 (Fri, 24 Oct 2025) EndedAt: 2025-10-24 19:35:47 -0400 (Fri, 24 Oct 2025) EllapsedTime: 54.1 seconds RetCode: 0 Status: OK PackageFile: pwalign_1.5.0.tar.gz PackageFileSize: 347.5 KiB