Package: pwalign Version: 1.6.0 Command: /Library/Frameworks/R.framework/Resources/bin/R CMD INSTALL pwalign StartedAt: 2025-11-03 15:45:15 -0500 (Mon, 03 Nov 2025) EndedAt: 2025-11-03 15:45:37 -0500 (Mon, 03 Nov 2025) EllapsedTime: 21.5 seconds RetCode: 0 Status: OK