Package: pwalign Version: 1.6.0 Command: rm -rf pwalign.buildbin-libdir && mkdir pwalign.buildbin-libdir && /Users/biocbuild/BBS/utils/build-universal.sh pwalign_1.6.0.tar.gz /Library/Frameworks/R.framework/Resources/bin/R pwalign.buildbin-libdir StartedAt: 2025-11-04 01:57:14 -0500 (Tue, 04 Nov 2025) EndedAt: 2025-11-04 01:57:40 -0500 (Tue, 04 Nov 2025) EllapsedTime: 26.6 seconds RetCode: 0 Status: OK PackageFile: pwalign_1.6.0.tgz PackageFileSize: 754.7 KiB