Package: pwalign Version: 1.5.0 Command: /Library/Frameworks/R.framework/Resources/bin/R CMD INSTALL pwalign StartedAt: 2025-10-24 15:28:51 -0400 (Fri, 24 Oct 2025) EndedAt: 2025-10-24 15:28:57 -0400 (Fri, 24 Oct 2025) EllapsedTime: 6.3 seconds RetCode: 0 Status: OK