Package: pwalign Version: 1.6.0 Maintainer: Hervé Pagès MaintainerEmail: hpages.on.github at gmail.com git_url: https://git.bioconductor.org/packages/pwalign git_branch: RELEASE_3_22 git_last_commit: fe44e6d git_last_commit_date: 2025-10-29 14:26:00 -0500 (Wed, 29 Oct 2025)