Package: puma Version: 3.52.0 Command: /home/biocbuild/bbs-3.22-bioc/R/bin/R CMD INSTALL puma StartedAt: 2025-10-30 15:22:39 -0400 (Thu, 30 Oct 2025) EndedAt: 2025-10-30 15:23:27 -0400 (Thu, 30 Oct 2025) EllapsedTime: 48.1 seconds RetCode: 0 Status: OK