Package: puma Version: 3.52.0 Command: /home/biocbuild/bbs-3.22-bioc/R/bin/R CMD build --keep-empty-dirs --no-resave-data --md5 puma StartedAt: 2025-10-30 19:26:25 -0400 (Thu, 30 Oct 2025) EndedAt: 2025-10-30 19:27:44 -0400 (Thu, 30 Oct 2025) EllapsedTime: 79.1 seconds RetCode: 0 Status: OK PackageFile: puma_3.52.0.tar.gz PackageFileSize: 3.41 MiB