Package: psichomics Version: 1.35.0 Command: /home/biocbuild/bbs-3.22-bioc/R/bin/R CMD build --keep-empty-dirs --no-resave-data --md5 psichomics StartedAt: 2025-10-24 19:33:35 -0400 (Fri, 24 Oct 2025) EndedAt: 2025-10-24 19:35:27 -0400 (Fri, 24 Oct 2025) EllapsedTime: 112.1 seconds RetCode: 0 Status: OK PackageFile: psichomics_1.35.0.tar.gz PackageFileSize: 6.136 MiB