Package: proteinProfiles Version: 1.50.0 Command: /home/biocbuild/bbs-3.22-bioc/R/bin/R CMD INSTALL proteinProfiles StartedAt: 2025-11-14 15:11:55 -0500 (Fri, 14 Nov 2025) EndedAt: 2025-11-14 15:12:03 -0500 (Fri, 14 Nov 2025) EllapsedTime: 7.5 seconds RetCode: 0 Status: OK