Package: protGear Version: 1.13.0 Command: /home/biocbuild/bbs-3.22-bioc/R/bin/R CMD build --keep-empty-dirs --no-resave-data --md5 protGear StartedAt: 2025-10-24 19:33:33 -0400 (Fri, 24 Oct 2025) EndedAt: 2025-10-24 19:34:38 -0400 (Fri, 24 Oct 2025) EllapsedTime: 65.1 seconds RetCode: 0 Status: OK PackageFile: protGear_1.13.0.tar.gz PackageFileSize: 4.753 MiB