Package: protGear Version: 1.14.0 Command: /Library/Frameworks/R.framework/Resources/bin/R CMD INSTALL protGear StartedAt: 2025-11-10 15:09:40 -0500 (Mon, 10 Nov 2025) EndedAt: 2025-11-10 15:09:50 -0500 (Mon, 10 Nov 2025) EllapsedTime: 10.3 seconds RetCode: 0 Status: OK