Package: protGear Version: 1.14.0 Command: /Library/Frameworks/R.framework/Resources/bin/R CMD build --keep-empty-dirs --no-resave-data protGear StartedAt: 2025-11-10 17:24:49 -0500 (Mon, 10 Nov 2025) EndedAt: 2025-11-10 17:25:14 -0500 (Mon, 10 Nov 2025) EllapsedTime: 25.3 seconds RetCode: 0 Status: OK PackageFile: protGear_1.14.0.tar.gz PackageFileSize: 5.053 MiB