Package: projectR Version: 1.26.0 Command: /home/biocbuild/R/R/bin/R CMD INSTALL projectR StartedAt: 2025-11-13 21:28:33 -0000 (Thu, 13 Nov 2025) EndedAt: 2025-11-13 21:29:16 -0000 (Thu, 13 Nov 2025) EllapsedTime: 43.6 seconds RetCode: 0 Status: OK