Package: projectR Version: 1.26.0 Command: /home/biocbuild/R/R/bin/R CMD build --keep-empty-dirs --no-resave-data projectR StartedAt: 2025-11-14 04:17:48 -0000 (Fri, 14 Nov 2025) EndedAt: 2025-11-14 04:20:26 -0000 (Fri, 14 Nov 2025) EllapsedTime: 158.1 seconds RetCode: 0 Status: OK PackageFile: projectR_1.26.0.tar.gz PackageFileSize: 5.221 MiB