Package: projectR Version: 1.25.0 Command: /home/biocbuild/bbs-3.22-bioc/R/bin/R CMD build --keep-empty-dirs --no-resave-data --md5 projectR StartedAt: 2025-10-24 19:32:22 -0400 (Fri, 24 Oct 2025) EndedAt: 2025-10-24 19:34:17 -0400 (Fri, 24 Oct 2025) EllapsedTime: 115.1 seconds RetCode: 0 Status: OK PackageFile: projectR_1.25.0.tar.gz PackageFileSize: 5.897 MiB