Package: projectR Version: 1.25.0 Command: /Library/Frameworks/R.framework/Resources/bin/R CMD INSTALL projectR StartedAt: 2025-10-27 15:20:37 -0400 (Mon, 27 Oct 2025) EndedAt: 2025-10-27 15:21:23 -0400 (Mon, 27 Oct 2025) EllapsedTime: 46.0 seconds RetCode: 0 Status: OK