Package: projectR Version: 1.25.0 Command: rm -rf projectR.buildbin-libdir && mkdir projectR.buildbin-libdir && /Users/biocbuild/BBS/utils/build-universal.sh projectR_1.25.0.tar.gz /Library/Frameworks/R.framework/Resources/bin/R projectR.buildbin-libdir StartedAt: 2025-10-25 01:56:39 -0400 (Sat, 25 Oct 2025) EndedAt: 2025-10-25 01:57:28 -0400 (Sat, 25 Oct 2025) EllapsedTime: 49.5 seconds RetCode: 0 Status: OK PackageFile: projectR_1.25.0.tgz PackageFileSize: 7.378 MiB