Package: projectR Version: 1.26.0 Maintainer: Genevieve Stein-O'Brien MaintainerEmail: gsteinobrien at gmail.com git_url: https://git.bioconductor.org/packages/projectR git_branch: RELEASE_3_22 git_last_commit: 8ac1c21 git_last_commit_date: 2025-10-29 10:50:52 -0500 (Wed, 29 Oct 2025)