Package: profileScoreDist Version: 1.37.0 Command: /home/biocbuild/R/R/bin/R CMD build --keep-empty-dirs --no-resave-data profileScoreDist StartedAt: 2025-10-21 02:09:31 -0000 (Tue, 21 Oct 2025) EndedAt: 2025-10-21 02:09:56 -0000 (Tue, 21 Oct 2025) EllapsedTime: 25.0 seconds RetCode: 0 Status: OK PackageFile: profileScoreDist_1.37.0.tar.gz PackageFileSize: 178.8 KiB