Package: profileScoreDist Version: 1.37.0 Command: /home/biocbuild/bbs-3.22-bioc/R/bin/R CMD check --install=check:profileScoreDist.install-out.txt --library=/home/biocbuild/bbs-3.22-bioc/R/site-library --timings profileScoreDist_1.37.0.tar.gz StartedAt: 2025-10-25 02:57:44 -0400 (Sat, 25 Oct 2025) EndedAt: 2025-10-25 02:58:14 -0400 (Sat, 25 Oct 2025) EllapsedTime: 30.0 seconds RetCode: 0 Status: OK CheckDir: profileScoreDist.Rcheck Warnings: 0