Package: procoil Version: 2.37.1 Command: /home/biocbuild/bbs-3.22-bioc/R/bin/R CMD INSTALL procoil StartedAt: 2025-10-24 15:27:31 -0400 (Fri, 24 Oct 2025) EndedAt: 2025-10-24 15:27:55 -0400 (Fri, 24 Oct 2025) EllapsedTime: 24.9 seconds RetCode: 0 Status: OK