Package: procoil Version: 2.37.1 Command: /home/biocbuild/bbs-3.22-bioc/R/bin/R CMD build --keep-empty-dirs --no-resave-data --md5 procoil StartedAt: 2025-10-24 19:31:47 -0400 (Fri, 24 Oct 2025) EndedAt: 2025-10-24 19:32:22 -0400 (Fri, 24 Oct 2025) EllapsedTime: 35.0 seconds RetCode: 0 Status: OK PackageFile: procoil_2.37.1.tar.gz PackageFileSize: 1.308 MiB