Package: procoil Version: 2.38.0 Command: /Library/Frameworks/R.framework/Resources/bin/R CMD build --keep-empty-dirs --no-resave-data procoil StartedAt: 2025-10-31 17:27:01 -0400 (Fri, 31 Oct 2025) EndedAt: 2025-10-31 17:27:17 -0400 (Fri, 31 Oct 2025) EllapsedTime: 16.2 seconds RetCode: 0 Status: OK PackageFile: procoil_2.38.0.tar.gz PackageFileSize: 1.307 MiB